BEGIN:VCALENDAR
VERSION:2.0
PRODID:-//Optimal Systems Engineering (OPTIMISE) - ECPv6.15.12.2//NONSGML v1.0//EN
CALSCALE:GREGORIAN
METHOD:PUBLISH
X-WR-CALNAME:Optimal Systems Engineering (OPTIMISE)
X-ORIGINAL-URL:https://optimalsystems.my
X-WR-CALDESC:Events for Optimal Systems Engineering (OPTIMISE)
REFRESH-INTERVAL;VALUE=DURATION:PT1H
X-Robots-Tag:noindex
X-PUBLISHED-TTL:PT1H
BEGIN:VTIMEZONE
TZID:Asia/Kuala_Lumpur
BEGIN:STANDARD
TZOFFSETFROM:+0800
TZOFFSETTO:+0800
TZNAME:+08
DTSTART:20250101T000000
END:STANDARD
END:VTIMEZONE
BEGIN:VTIMEZONE
TZID:Asia/Shanghai
BEGIN:STANDARD
TZOFFSETFROM:+0800
TZOFFSETTO:+0800
TZNAME:CST
DTSTART:20250101T000000
END:STANDARD
END:VTIMEZONE
BEGIN:VEVENT
DTSTART;TZID=Asia/Kuala_Lumpur:20260428T090000
DTEND;TZID=Asia/Kuala_Lumpur:20260428T170000
DTSTAMP:20260426T040749
CREATED:20260128T065735Z
LAST-MODIFIED:20260128T065735Z
UID:10000197-1777366800-1777395600@optimalsystems.my
SUMMARY:[28 April 2026] Energy Management System Based on the Guidelines on Energy Management System (GP/ST/No.46/2024) Issued by the Energy Commission of Malaysia
DESCRIPTION:The Energy Efficiency and Conservation Act (EECA) 2024 represents a significant step forward in Malaysia’s efforts to enhance energy efficiency and support national climate goals. Under this Act\, designated energy consumers (DECs) must establish\, implement\, and maintain an Energy Management System (EnMS) in line with the Guidelines on Energy Management System (GP/ST/No.46/2024) issued by the Energy Commission (Suruhanjaya Tenaga). \nThis workshop is designed to help organisations and professionals understand and meet these requirements. Participants will gain the knowledge\, tools\, and practical guidance needed to comply with the EnMS guidelines while driving continuous energy performance improvement. The programme focuses on converting regulatory obligations into clear\, actionable steps tailored for industrial\, commercial\, and institutional facilities across Malaysia. \nClick Here to Download the Brochure
URL:https://optimalsystems.my/event/28-april-2026-energy-management-system-based-on-the-guidelines-on-energy-management-system-gp-st-no-46-2024-issued-by-the-energy-commission-of-malaysia/
LOCATION:Online via Microsoft Teams
CATEGORIES:Optional CDP
ORGANIZER;CN="Optimal Systems Engineering Sdn Bhd":MAILTO:inquiry@optimalsystems.my
END:VEVENT
BEGIN:VEVENT
DTSTART;TZID=Asia/Shanghai:20260713T090000
DTEND;TZID=Asia/Shanghai:20260715T170000
DTSTAMP:20260426T040749
CREATED:20251211T041426Z
LAST-MODIFIED:20260128T032539Z
UID:10000192-1783933200-1784134800@optimalsystems.my
SUMMARY:[13 - 15 July 2026] Thermal Energy Recovery Technologist (TERT): Level 1: Basic Of Heat Recovery Optimisation
DESCRIPTION:The Thermal Energy Recovery Technologist (TERT) course aims to develop professionals and certiﬁed experts in thermal energy recovery system using Pinch Technology. Successful participants of this course shall be awarded competency certiﬁcation based on the level of completion. More than 7000 successful applications worldwide\, including our own project experiences show that implementation of pinch technology typically provides an attractive payback period of less than three years. \nFor TERT Level 1 competency\, participants will be equipped with the basics of heat recovery\, analysing thermal energy losses from the processes\, energy-saving potentials\, and the tools to target and design the maximum energy recovery system based on Pinch Technology. Participants will be trained by using excel tools for calculations and is also introduced to our proprietary Optimal Heat software. Participants need to submit the completed excel calculation as proof they have mastered the competency.
URL:https://optimalsystems.my/event/13-15-july-2026-thermal-energy-recovery-technologist-tert-level-1-basic-of-heat-recovery-optimisation/
LOCATION:Online via Microsoft Teams
CATEGORIES:Mandatory CDP
ORGANIZER;CN="Optimal Systems Engineering Sdn Bhd":MAILTO:inquiry@optimalsystems.my
END:VEVENT
BEGIN:VEVENT
DTSTART;TZID=Asia/Shanghai:20261026T090000
DTEND;TZID=Asia/Shanghai:20261027T170000
DTSTAMP:20260426T040749
CREATED:20251211T041427Z
LAST-MODIFIED:20251218T030356Z
UID:10000193-1793005200-1793120400@optimalsystems.my
SUMMARY:[26 - 27 October 2026] Product Carbon Footprint (PCF)
DESCRIPTION:Join our Product Carbon Footprint (PCF) Training Program to gain a comprehensive understanding of the environmental impact of your products\, and how to measure and reduce their carbon footprints over the life cycle stages. 
URL:https://optimalsystems.my/event/26-27-october-2026-product-carbon-footprint-pcf/
LOCATION:Online via Microsoft Teams
CATEGORIES:Optional CDP
ORGANIZER;CN="Optimal Systems Engineering Sdn Bhd":MAILTO:inquiry@optimalsystems.my
END:VEVENT
BEGIN:VEVENT
DTSTART;TZID=Asia/Shanghai:20261125T090000
DTEND;TZID=Asia/Shanghai:20261126T170000
DTSTAMP:20260426T040749
CREATED:20251211T041338Z
LAST-MODIFIED:20251218T032345Z
UID:10000176-1795597200-1795712400@optimalsystems.my
SUMMARY:[25 - 26 Nov 2026] 2 Days Workshop on GHG Emissions Accounting
DESCRIPTION:Are you ready to take your organization’s sustainability and ESG efforts to the next level? Join our 2-day GHG Accounting and Energy-Emissions Management Training\, a comprehensive 3-in-1 program featuring training sessions\, case studies\, and software demonstrations. This workshop\, based on ISO 14064-1:2018 standards\, will provide practical techniques for GHG accounting and reporting\, including principles\, inventory boundaries\, and emission quantification. Over the two days\, participants will also learn how to use GHG reporting software to streamline the emissions reporting process. Additionally\, we will introduce the Science-Based Target Initiative (SBTi) to help organizations establish corporate emissions reduction targets and explore a structured approach to energy and emissions management for achieving meaningful reductions. \nThis hands-on training is designed to empower you with the knowledge and tools to meet global sustainability standards\, enhance ESG compliance\, and improve organizational energy efficiency. Don’t miss this opportunity to advance your sustainability strategy and drive your organization toward a greener future. Register now to secure your spot and be part of this transformative learning experience.
URL:https://optimalsystems.my/event/25-26-nov-2026-2-days-workshop-on-ghg-emissions-accounting/
LOCATION:Online via Microsoft Teams
CATEGORIES:Optional CDP
ORGANIZER;CN="Optimal Systems Engineering Sdn Bhd":MAILTO:inquiry@optimalsystems.my
END:VEVENT
END:VCALENDAR