BEGIN:VCALENDAR
VERSION:2.0
PRODID:-//Optimal Systems Engineering (OPTIMISE) - ECPv6.15.12.2//NONSGML v1.0//EN
CALSCALE:GREGORIAN
METHOD:PUBLISH
X-ORIGINAL-URL:https://optimalsystems.my
X-WR-CALDESC:Events for Optimal Systems Engineering (OPTIMISE)
REFRESH-INTERVAL;VALUE=DURATION:PT1H
X-Robots-Tag:noindex
X-PUBLISHED-TTL:PT1H
BEGIN:VTIMEZONE
TZID:Asia/Shanghai
BEGIN:STANDARD
TZOFFSETFROM:+0800
TZOFFSETTO:+0800
TZNAME:CST
DTSTART:20250101T000000
END:STANDARD
END:VTIMEZONE
BEGIN:VEVENT
DTSTART;TZID=Asia/Shanghai:20260608T080000
DTEND;TZID=Asia/Shanghai:20260612T170000
DTSTAMP:20260426T065852
CREATED:20251211T041425Z
LAST-MODIFIED:20251218T012708Z
UID:10000189-1780905600-1781283600@optimalsystems.my
SUMMARY:[8 - 12 June 2026] Registered Energy Manager (REM) - Type 2
DESCRIPTION:The Registered Energy Manager (REM) – Type 2 workshop is tailored for professionals responsible for managing facilities with energy consumption >50\,000 GJ/year under Malaysia’s Energy Efficiency and Conservation Act (EECA). This workshop provides advanced training in managing energy resources\, optimizing energy systems\, and ensuring compliance with stringent regulations. Participants will gain knowledge on thermal energy systems\, energy audits\, and energy-saving measures\, all necessary for REM Type 2 certification.
URL:https://optimalsystems.my/event/8-12-june-2026-registered-energy-manager-rem-type-2/
LOCATION:Hyatt Place Johor Bahru\, Paradigm Mall\, Jln Mewah Ria 2\, Taman Bukit Mewah\, Johor Bahru\, Johor\, 81200\, Malaysia
CATEGORIES:Registered Energy Manager (REM)
ORGANIZER;CN="Optimal Systems Engineering Sdn Bhd":MAILTO:inquiry@optimalsystems.my
END:VEVENT
BEGIN:VEVENT
DTSTART;TZID=Asia/Shanghai:20260727T080000
DTEND;TZID=Asia/Shanghai:20260731T170000
DTSTAMP:20260426T065852
CREATED:20251211T041409Z
LAST-MODIFIED:20251218T021007Z
UID:10000185-1785139200-1785517200@optimalsystems.my
SUMMARY:[27 - 31 July 2026] Registered Energy Manager (REM) - Type 1
DESCRIPTION:Are you ready to advance your expertise in energy management and achieve REM certification? Join our Registered Energy Manager (REM) – Type 1 Workshop\, a focused 5-day training program designed to equip professionals with the essential skills and knowledge to effectively manage energy resources in medium-sized facilities. This workshop prepares participants for REM Type 1 certification under Malaysia’s Energy Efficiency and Conservation Act (EECA)\, targeting facilities with annual energy consumption between 21\,600 GJ/year and 50\,000 GJ/year. The program covers a comprehensive range of topics\, including energy management principles\, energy efficiency strategies\, regulatory compliance\, and financial analysis of energy projects. Participants will also undergo a certification examination on the final day to validate their readiness for certification. \nThis workshop is ideal for facility managers\, engineers\, energy auditors\, consultants\, and other stakeholders involved in energy management\, policy development\, and implementation. It empowers participants to conduct energy audits\, implement energy-saving measures (ESMs)\, and develop individual energy management initiatives while ensuring compliance with Malaysia’s regulatory framework. Don’t miss this opportunity to expand your expertise\, achieve certification\, and contribute to sustainable energy practices—register today!
URL:https://optimalsystems.my/event/27-31-july-2026-registered-energy-manager-rem-type-1/
LOCATION:Cyberview Resort & Spa\, Cyberjaya\, The Lodge\, Persiaran Multimedia\, Cyber 7\, Cyberjaya\, Selangor\, 63000\, Malaysia
CATEGORIES:Registered Energy Manager (REM)
ORGANIZER;CN="Optimal Systems Engineering Sdn Bhd":MAILTO:inquiry@optimalsystems.my
END:VEVENT
BEGIN:VEVENT
DTSTART;TZID=Asia/Shanghai:20260810T080000
DTEND;TZID=Asia/Shanghai:20260814T170000
DTSTAMP:20260426T065852
CREATED:20251211T041426Z
LAST-MODIFIED:20251218T022601Z
UID:10000190-1786348800-1786726800@optimalsystems.my
SUMMARY:[10 - 14 Aug 2026] Registered Energy Manager (REM) - Type 2
DESCRIPTION:The Registered Energy Manager (REM) – Type 2 workshop is tailored for professionals responsible for managing facilities with energy consumption >50\,000 GJ/year under Malaysia’s Energy Efficiency and Conservation Act (EECA). This workshop provides advanced training in managing energy resources\, optimizing energy systems\, and ensuring compliance with stringent regulations. Participants will gain knowledge on thermal energy systems\, energy audits\, and energy-saving measures\, all necessary for REM Type 2 certification.
URL:https://optimalsystems.my/event/10-14-aug-2026-registered-energy-manager-rem-type-2/
LOCATION:Cyberview Resort & Spa\, Cyberjaya\, The Lodge\, Persiaran Multimedia\, Cyber 7\, Cyberjaya\, Selangor\, 63000\, Malaysia
CATEGORIES:Registered Energy Manager (REM)
ORGANIZER;CN="Optimal Systems Engineering Sdn Bhd":MAILTO:inquiry@optimalsystems.my
END:VEVENT
BEGIN:VEVENT
DTSTART;TZID=Asia/Shanghai:20260921T080000
DTEND;TZID=Asia/Shanghai:20260925T170000
DTSTAMP:20260426T065852
CREATED:20251211T041409Z
LAST-MODIFIED:20251218T025232Z
UID:10000186-1789977600-1790355600@optimalsystems.my
SUMMARY:[21 - 26 Sep 2026] Registered Energy Manager (REM) - Type 1
DESCRIPTION:Are you ready to advance your expertise in energy management and achieve REM certification? Join our Registered Energy Manager (REM) – Type 1 Workshop\, a focused 5-day training program designed to equip professionals with the essential skills and knowledge to effectively manage energy resources in medium-sized facilities. This workshop prepares participants for REM Type 1 certification under Malaysia’s Energy Efficiency and Conservation Act (EECA)\, targeting facilities with annual energy consumption between 21\,600 GJ/year and 50\,000 GJ/year. The program covers a comprehensive range of topics\, including energy management principles\, energy efficiency strategies\, regulatory compliance\, and financial analysis of energy projects. Participants will also undergo a certification examination on the final day to validate their readiness for certification. \nThis workshop is ideal for facility managers\, engineers\, energy auditors\, consultants\, and other stakeholders involved in energy management\, policy development\, and implementation. It empowers participants to conduct energy audits\, implement energy-saving measures (ESMs)\, and develop individual energy management initiatives while ensuring compliance with Malaysia’s regulatory framework. Don’t miss this opportunity to expand your expertise\, achieve certification\, and contribute to sustainable energy practices—register today!
URL:https://optimalsystems.my/event/21-26-sep-2026-registered-energy-manager-rem-type-1/
LOCATION:Hyatt Place Johor Bahru\, Paradigm Mall\, Jln Mewah Ria 2\, Taman Bukit Mewah\, Johor Bahru\, Johor\, 81200\, Malaysia
CATEGORIES:Registered Energy Manager (REM)
ORGANIZER;CN="Optimal Systems Engineering Sdn Bhd":MAILTO:inquiry@optimalsystems.my
END:VEVENT
BEGIN:VEVENT
DTSTART;TZID=Asia/Shanghai:20261019T080000
DTEND;TZID=Asia/Shanghai:20261023T170000
DTSTAMP:20260426T065852
CREATED:20251211T041410Z
LAST-MODIFIED:20251218T025927Z
UID:10000187-1792396800-1792774800@optimalsystems.my
SUMMARY:[19 - 23 Oct 2026] Registered Energy Manager (REM) - Type 1
DESCRIPTION:Are you ready to advance your expertise in energy management and achieve REM certification? Join our Registered Energy Manager (REM) – Type 1 Workshop\, a focused 5-day training program designed to equip professionals with the essential skills and knowledge to effectively manage energy resources in medium-sized facilities. This workshop prepares participants for REM Type 1 certification under Malaysia’s Energy Efficiency and Conservation Act (EECA)\, targeting facilities with annual energy consumption between 21\,600 GJ/year and 50\,000 GJ/year. The program covers a comprehensive range of topics\, including energy management principles\, energy efficiency strategies\, regulatory compliance\, and financial analysis of energy projects. Participants will also undergo a certification examination on the final day to validate their readiness for certification. \nThis workshop is ideal for facility managers\, engineers\, energy auditors\, consultants\, and other stakeholders involved in energy management\, policy development\, and implementation. It empowers participants to conduct energy audits\, implement energy-saving measures (ESMs)\, and develop individual energy management initiatives while ensuring compliance with Malaysia’s regulatory framework. Don’t miss this opportunity to expand your expertise\, achieve certification\, and contribute to sustainable energy practices—register today!
URL:https://optimalsystems.my/event/19-23-oct-2026-registered-energy-manager-rem-type-1/
LOCATION:Cyberview Resort & Spa\, Cyberjaya\, The Lodge\, Persiaran Multimedia\, Cyber 7\, Cyberjaya\, Selangor\, 63000\, Malaysia
CATEGORIES:Registered Energy Manager (REM)
ORGANIZER;CN="Optimal Systems Engineering Sdn Bhd":MAILTO:inquiry@optimalsystems.my
END:VEVENT
BEGIN:VEVENT
DTSTART;TZID=Asia/Shanghai:20261116T080000
DTEND;TZID=Asia/Shanghai:20261120T170000
DTSTAMP:20260426T065852
CREATED:20251211T041426Z
LAST-MODIFIED:20251223T040137Z
UID:10000191-1794816000-1795194000@optimalsystems.my
SUMMARY:[16 - 20 Nov 2026] Registered Energy Manager (REM) - Type 2
DESCRIPTION:The Registered Energy Manager (REM) – Type 2 workshop is tailored for professionals responsible for managing facilities with energy consumption >50\,000 GJ/year under Malaysia’s Energy Efficiency and Conservation Act (EECA). This workshop provides advanced training in managing energy resources\, optimizing energy systems\, and ensuring compliance with stringent regulations. Participants will gain knowledge on thermal energy systems\, energy audits\, and energy-saving measures\, all necessary for REM Type 2 certification. \nClick Here to Download Brochure \nRegister using HRDC/LOU/PO
URL:https://optimalsystems.my/event/16-20-nov-2026-registered-energy-manager-rem-type-2/
LOCATION:Cyberview Resort & Spa\, Cyberjaya\, The Lodge\, Persiaran Multimedia\, Cyber 7\, Cyberjaya\, Selangor\, 63000\, Malaysia
CATEGORIES:Registered Energy Manager (REM)
ORGANIZER;CN="Optimal Systems Engineering Sdn Bhd":MAILTO:inquiry@optimalsystems.my
END:VEVENT
END:VCALENDAR