BEGIN:VCALENDAR
VERSION:2.0
PRODID:-//Optimal Systems Engineering (OPTIMISE) - ECPv6.15.12.2//NONSGML v1.0//EN
CALSCALE:GREGORIAN
METHOD:PUBLISH
X-ORIGINAL-URL:https://optimalsystems.my
X-WR-CALDESC:Events for Optimal Systems Engineering (OPTIMISE)
REFRESH-INTERVAL;VALUE=DURATION:PT1H
X-Robots-Tag:noindex
X-PUBLISHED-TTL:PT1H
BEGIN:VTIMEZONE
TZID:Asia/Shanghai
BEGIN:STANDARD
TZOFFSETFROM:+0800
TZOFFSETTO:+0800
TZNAME:CST
DTSTART:20250101T000000
END:STANDARD
END:VTIMEZONE
BEGIN:VEVENT
DTSTART;TZID=Asia/Shanghai:20260609T090000
DTEND;TZID=Asia/Shanghai:20260611T170000
DTSTAMP:20260426T040625
CREATED:20251211T041353Z
LAST-MODIFIED:20251218T013129Z
UID:10000179-1780995600-1781197200@optimalsystems.my
SUMMARY:[9 - 11 Jun 2026] Industrial Thermal Energy Audit (ITEA)
DESCRIPTION:Up to 50% of industrial thermal energy input are finally lost as waste heat in exhaust gases\, cooling water\, heated surfaces and in products/byproducts (US-DoE). Thermal energy efficiency improvement typically offers among the biggest scope for energy cost savings in industry. By benchmarking process and equipment performances\, identifying inefficiencies and implementing targeted measures involving optimization of operating parameters and equipment upgrades\, significant cost savings and emission reduction can be achieved. Regular monitoring and maintenance of optimal operations ensure sustained energy cost savings\, GHG emission reduction and compliance with regulations.
URL:https://optimalsystems.my/event/9-11-jun-2026-industrial-thermal-energy-audit-itea/
LOCATION:Hyatt Place Johor Bahru\, Paradigm Mall\, Jln Mewah Ria 2\, Taman Bukit Mewah\, Johor Bahru\, Johor\, 81200\, Malaysia
CATEGORIES:Mandatory CDP
ORGANIZER;CN="Optimal Systems Engineering Sdn Bhd":MAILTO:inquiry@optimalsystems.my
END:VEVENT
BEGIN:VEVENT
DTSTART;TZID=Asia/Shanghai:20260713T090000
DTEND;TZID=Asia/Shanghai:20260715T170000
DTSTAMP:20260426T040625
CREATED:20251211T041426Z
LAST-MODIFIED:20260128T032539Z
UID:10000192-1783933200-1784134800@optimalsystems.my
SUMMARY:[13 - 15 July 2026] Thermal Energy Recovery Technologist (TERT): Level 1: Basic Of Heat Recovery Optimisation
DESCRIPTION:The Thermal Energy Recovery Technologist (TERT) course aims to develop professionals and certiﬁed experts in thermal energy recovery system using Pinch Technology. Successful participants of this course shall be awarded competency certiﬁcation based on the level of completion. More than 7000 successful applications worldwide\, including our own project experiences show that implementation of pinch technology typically provides an attractive payback period of less than three years. \nFor TERT Level 1 competency\, participants will be equipped with the basics of heat recovery\, analysing thermal energy losses from the processes\, energy-saving potentials\, and the tools to target and design the maximum energy recovery system based on Pinch Technology. Participants will be trained by using excel tools for calculations and is also introduced to our proprietary Optimal Heat software. Participants need to submit the completed excel calculation as proof they have mastered the competency.
URL:https://optimalsystems.my/event/13-15-july-2026-thermal-energy-recovery-technologist-tert-level-1-basic-of-heat-recovery-optimisation/
LOCATION:Online via Microsoft Teams
CATEGORIES:Mandatory CDP
ORGANIZER;CN="Optimal Systems Engineering Sdn Bhd":MAILTO:inquiry@optimalsystems.my
END:VEVENT
BEGIN:VEVENT
DTSTART;TZID=Asia/Shanghai:20260811T090000
DTEND;TZID=Asia/Shanghai:20260813T170000
DTSTAMP:20260426T040625
CREATED:20251211T041353Z
LAST-MODIFIED:20251218T023155Z
UID:10000180-1786438800-1786640400@optimalsystems.my
SUMMARY:[11 - 13 Aug 2026] Industrial Thermal Energy Audit (ITEA)
DESCRIPTION:Up to 50% of industrial thermal energy input are finally lost as waste heat in exhaust gases\, cooling water\, heated surfaces and in products/byproducts (US-DoE). Thermal energy efficiency improvement typically offers among the biggest scope for energy cost savings in industry. By benchmarking process and equipment performances\, identifying inefficiencies and implementing targeted measures involving optimization of operating parameters and equipment upgrades\, significant cost savings and emission reduction can be achieved. Regular monitoring and maintenance of optimal operations ensure sustained energy cost savings\, GHG emission reduction and compliance with regulations.
URL:https://optimalsystems.my/event/11-13-aug-2026-industrial-thermal-energy-audit-itea/
LOCATION:Cyberview Resort & Spa\, Cyberjaya\, The Lodge\, Persiaran Multimedia\, Cyber 7\, Cyberjaya\, Selangor\, 63000\, Malaysia
CATEGORIES:Mandatory CDP
ORGANIZER;CN="Optimal Systems Engineering Sdn Bhd":MAILTO:inquiry@optimalsystems.my
END:VEVENT
BEGIN:VEVENT
DTSTART;TZID=Asia/Shanghai:20261117T090000
DTEND;TZID=Asia/Shanghai:20261119T170000
DTSTAMP:20260426T040625
CREATED:20251211T041353Z
LAST-MODIFIED:20251218T032051Z
UID:10000181-1794906000-1795107600@optimalsystems.my
SUMMARY:[17 - 19 Nov 2026] Industrial Thermal Energy Audit (ITEA)
DESCRIPTION:Up to 50% of industrial thermal energy input are finally lost as waste heat in exhaust gases\, cooling water\, heated surfaces and in products/byproducts (US-DoE). Thermal energy efficiency improvement typically offers among the biggest scope for energy cost savings in industry. By benchmarking process and equipment performances\, identifying inefficiencies and implementing targeted measures involving optimization of operating parameters and equipment upgrades\, significant cost savings and emission reduction can be achieved. Regular monitoring and maintenance of optimal operations ensure sustained energy cost savings\, GHG emission reduction and compliance with regulations.
URL:https://optimalsystems.my/event/17-19-nov-2026-industrial-thermal-energy-audit-itea/
LOCATION:Cyberview Resort & Spa\, Cyberjaya\, The Lodge\, Persiaran Multimedia\, Cyber 7\, Cyberjaya\, Selangor\, 63000\, Malaysia
CATEGORIES:Mandatory CDP
ORGANIZER;CN="Optimal Systems Engineering Sdn Bhd":MAILTO:inquiry@optimalsystems.my
END:VEVENT
END:VCALENDAR